BEGIN:VCALENDAR
VERSION:2.0
PRODID:icalendar-ruby
CALSCALE:GREGORIAN
METHOD:PUBLISH
BEGIN:VEVENT
DTSTAMP:20260425T214646Z
UID:661-41667@wcumc.us
DTSTART:20260520T233000Z
DTEND:20260521T010000Z
CLASS:PUBLIC
CREATED:20260422T120244
DESCRIPTION:
LAST-MODIFIED:20260422T120244
LOCATION:Zoom
SUMMARY:Staff/Parish Relations Committee Meeting
URL;VALUE=URI:https://www.wcumc.us/events/staff-parish-relations-committee-
 meeting/2026-05-20
END:VEVENT
END:VCALENDAR
